BEGIN:VCALENDAR
VERSION:2.0
PRODID:-//Jesica Cirio - ECPv6.9.0//NONSGML v1.0//EN
CALSCALE:GREGORIAN
METHOD:PUBLISH
X-WR-CALNAME:Jesica Cirio
X-ORIGINAL-URL:https://jesicaciriofit.com
X-WR-CALDESC:Eventos para Jesica Cirio
REFRESH-INTERVAL;VALUE=DURATION:PT1H
X-Robots-Tag:noindex
X-PUBLISHED-TTL:PT1H
BEGIN:VTIMEZONE
TZID:America/Argentina/Buenos_Aires
BEGIN:STANDARD
TZOFFSETFROM:-0300
TZOFFSETTO:-0300
TZNAME:-03
DTSTART:20190101T000000
END:STANDARD
TZID:UTC
BEGIN:STANDARD
TZOFFSETFROM:+0000
TZOFFSETTO:+0000
TZNAME:UTC
DTSTART:20190101T000000
END:STANDARD
END:VTIMEZONE
BEGIN:VEVENT
DTSTART;TZID=America/Argentina/Buenos_Aires:20190927T080000
DTEND;TZID=America/Argentina/Buenos_Aires:20190927T170000
DTSTAMP:20260423T161438
CREATED:20190717T202125Z
LAST-MODIFIED:20190805T144734Z
UID:1253-1569571200-1569603600@jesicaciriofit.com
SUMMARY:Clase Master de Strong by Zumba
DESCRIPTION:
URL:https://jesicaciriofit.com/evento/clase-master-de-strong-by-zumba-septiembre-27-2019/
LOCATION:Hipódromo de Palermo\, Av. del Libertador 4101\, CABA\, C1426\, Argentina
CATEGORIES:Salud y Vida
ATTACH;FMTTYPE=image/jpeg:https://jesicaciriofit.com/wp-content/uploads/2019/07/event2-1.jpg
END:VEVENT
BEGIN:VEVENT
DTSTART;TZID=America/Argentina/Buenos_Aires:20190918T183000
DTEND;TZID=America/Argentina/Buenos_Aires:20190918T203000
DTSTAMP:20260423T161438
CREATED:20190717T201944Z
LAST-MODIFIED:20190717T201944Z
UID:1251-1568831400-1568838600@jesicaciriofit.com
SUMMARY:Clase Master de Zumba
DESCRIPTION:
URL:https://jesicaciriofit.com/evento/clase-master-de-zumba-septiembre-18-2019/
LOCATION:Hipódromo de Palermo\, Av. del Libertador 4101\, CABA\, C1426\, Argentina
CATEGORIES:Salud y Vida
ATTACH;FMTTYPE=image/jpeg:https://jesicaciriofit.com/wp-content/uploads/2019/07/event1-1.jpg
END:VEVENT
BEGIN:VEVENT
DTSTART;TZID=UTC:20190821T080000
DTEND;TZID=UTC:20190821T170000
DTSTAMP:20260423T161438
CREATED:20190717T201737Z
LAST-MODIFIED:20190717T201737Z
UID:1249-1566374400-1566406800@jesicaciriofit.com
SUMMARY:Clase Master de Strong by Zumba
DESCRIPTION:
URL:https://jesicaciriofit.com/evento/clase-master-de-strong-by-zumba-agosto-21-2019/
LOCATION:Hipódromo de Palermo\, Av. del Libertador 4101\, CABA\, C1426\, Argentina
CATEGORIES:Salud y Vida
ATTACH;FMTTYPE=image/jpeg:https://jesicaciriofit.com/wp-content/uploads/2019/07/event2-1.jpg
END:VEVENT
BEGIN:VEVENT
DTSTART;TZID=America/Argentina/Buenos_Aires:20190814T183000
DTEND;TZID=America/Argentina/Buenos_Aires:20190814T203000
DTSTAMP:20260423T161438
CREATED:20190717T201536Z
LAST-MODIFIED:20190717T201802Z
UID:1245-1565807400-1565814600@jesicaciriofit.com
SUMMARY:Clase Master de Zumba
DESCRIPTION:
URL:https://jesicaciriofit.com/evento/clase-master-de-zumba-agosto-14-2019/
LOCATION:Hipódromo de Palermo\, Av. del Libertador 4101\, CABA\, C1426\, Argentina
CATEGORIES:Salud y Vida
ATTACH;FMTTYPE=image/jpeg:https://jesicaciriofit.com/wp-content/uploads/2019/07/event1-1.jpg
END:VEVENT
BEGIN:VEVENT
DTSTART;TZID=America/Argentina/Buenos_Aires:20190731T183000
DTEND;TZID=America/Argentina/Buenos_Aires:20190731T203000
DTSTAMP:20260423T161438
CREATED:20190717T200544Z
LAST-MODIFIED:20190717T201232Z
UID:1240-1564597800-1564605000@jesicaciriofit.com
SUMMARY:Clase Master de Strong by Zumba
DESCRIPTION:Master Class de Strong by Zumba con Jesica Cirio e Instructores invitados. \nMiercoles 31 de Julio – 18:30 hs – Hipodromo de Palermo – salón TURF. \nBUY TICKETS
URL:https://jesicaciriofit.com/evento/clase-master-de-zumba-julio-31-2019/
LOCATION:Hipódromo de Palermo\, Av. del Libertador 4101\, CABA\, C1426\, Argentina
CATEGORIES:Salud y Vida
ATTACH;FMTTYPE=image/jpeg:https://jesicaciriofit.com/wp-content/uploads/2019/07/event2.jpg
END:VEVENT
BEGIN:VEVENT
DTSTART;TZID=America/Argentina/Buenos_Aires:20190719T183000
DTEND;TZID=America/Argentina/Buenos_Aires:20190719T200000
DTSTAMP:20260423T161438
CREATED:20190717T195852Z
LAST-MODIFIED:20190717T200408Z
UID:1234-1563561000-1563566400@jesicaciriofit.com
SUMMARY:Clase Master de Zumba
DESCRIPTION:Master Class de Zumba con Jesica Cirio e instructores invitados \nViernes 19 de Julio – 18:30 hs – Hipodromo de Palermo – salón TURF. \nBUY TICKETS
URL:https://jesicaciriofit.com/evento/clase-master-de-zumba-julio-19-2019/
LOCATION:Hipódromo de Palermo\, Av. del Libertador 4101\, CABA\, C1426\, Argentina
CATEGORIES:Salud y Vida
ATTACH;FMTTYPE=image/jpeg:https://jesicaciriofit.com/wp-content/uploads/2019/07/event1.jpg
END:VEVENT
BEGIN:VEVENT
DTSTART;VALUE=DATE:20190704
DTEND;VALUE=DATE:20190705
DTSTAMP:20260423T161438
CREATED:20190609T162940Z
LAST-MODIFIED:20190612T120121Z
UID:703-1562198400-1562284799@jesicaciriofit.com
SUMMARY:Clase Master de Zumba
DESCRIPTION:
URL:https://jesicaciriofit.com/evento/clase-master-de-zumba/
LOCATION:Hipódromo de Palermo\, Av. del Libertador 4101\, CABA\, C1426\, Argentina
CATEGORIES:Salud y Vida
ATTACH;FMTTYPE=image/jpeg:https://jesicaciriofit.com/wp-content/uploads/2019/06/event1.jpg
END:VEVENT
BEGIN:VEVENT
DTSTART;VALUE=DATE:20190624
DTEND;VALUE=DATE:20190625
DTSTAMP:20260423T161438
CREATED:20190609T135403Z
LAST-MODIFIED:20190612T120209Z
UID:686-1561334400-1561420799@jesicaciriofit.com
SUMMARY:Clase Master de Strong by Zumba
DESCRIPTION:Ven a Disfrutar de éste gran Evento
URL:https://jesicaciriofit.com/evento/clase-master-de-strong-by-zumba/
LOCATION:Hipódromo de Palermo\, Av. del Libertador 4101\, CABA\, C1426\, Argentina
CATEGORIES:Salud y Vida
ATTACH;FMTTYPE=image/jpeg:https://jesicaciriofit.com/wp-content/uploads/2019/06/event.jpg
END:VEVENT
END:VCALENDAR